BEGIN:VCALENDAR
VERSION:2.0
PRODID:-//ical.marudot.com//iCal Event Maker
X-WR-CALNAME:WeinTHW
NAME:WeinTHW
REFRESH-INTERVAL;VALUE=DURATION:P1440M
CALSCALE:GREGORIAN
BEGIN:VTIMEZONE
TZID:Europe/Berlin
LAST-MODIFIED:20250410T142247Z
TZURL:https://www.tzurl.org/zoneinfo-outlook/Europe/Berlin
X-LIC-LOCATION:Europe/Berlin
BEGIN:DAYLIGHT
TZNAME:CEST
TZOFFSETFROM:+0100
TZOFFSETTO:+0200
DTSTART:19700329T020000
RRULE:FREQ=YEARLY;BYMONTH=3;BYDAY=-1SU
END:DAYLIGHT
BEGIN:STANDARD
TZNAME:CET
TZOFFSETFROM:+0200
TZOFFSETTO:+0100
DTSTART:19701025T030000
RRULE:FREQ=YEARLY;BYMONTH=10;BYDAY=-1SU
END:STANDARD
END:VTIMEZONE
BEGIN:VEVENT
DTSTAMP:20260422T091118Z
UID:1776848962542-63109@ical.marudot.com
DTSTART;TZID=Europe/Berlin:20260509T160000
DTEND;TZID=Europe/Berlin:20260509T210000
SUMMARY:Weinstand (THW Wiesbaden)
URL:www.thow-ev.de
LOCATION:THW Wiesbaden\, Siegfriedring 1\, 65189 Wiesbaden
END:VEVENT
BEGIN:VEVENT
DTSTAMP:20260422T091118Z
UID:1776848964530-32499@ical.marudot.com
DTSTART;TZID=Europe/Berlin:20260606T160000
DTEND;TZID=Europe/Berlin:20260606T210000
SUMMARY:Weinstand (THW Wiesbaden)
URL:www.thow-ev.de
LOCATION:THW Wiesbaden\, Siegfriedring 1\, 65189 Wiesbaden
END:VEVENT
BEGIN:VEVENT
DTSTAMP:20260422T091118Z
UID:1776848966916-65146@ical.marudot.com
DTSTART;TZID=Europe/Berlin:20260718T160000
DTEND;TZID=Europe/Berlin:20260718T210000
SUMMARY:Weinstand (THW Wiesbaden)
URL:www.thow-ev.de
LOCATION:THW Wiesbaden\, Siegfriedring 1\, 65189 Wiesbaden
END:VEVENT
BEGIN:VEVENT
DTSTAMP:20260422T091118Z
UID:1776848965899-28471@ical.marudot.com
DTSTART;TZID=Europe/Berlin:20260815T160000
DTEND;TZID=Europe/Berlin:20260815T210000
SUMMARY:Weinstand (THW Wiesbaden)
URL:www.thow-ev.de
LOCATION:THW Wiesbaden\, Siegfriedring 1\, 65189 Wiesbaden
END:VEVENT
BEGIN:VEVENT
DTSTAMP:20260422T091118Z
UID:1776848967955-33153@ical.marudot.com
DTSTART;TZID=Europe/Berlin:20260919T160000
DTEND;TZID=Europe/Berlin:20260919T210000
SUMMARY:Weinstand (THW Wiesbaden)
URL:www.thow-ev.de
LOCATION:THW Wiesbaden\, Siegfriedring 1\, 65189 Wiesbaden
END:VEVENT
END:VCALENDAR